BEGIN:VCALENDAR
VERSION:2.0
PRODID:-//wp-events-plugin.com//7.2.3.1//EN
TZID:Asia/Manila
X-WR-TIMEZONE:Asia/Manila
BEGIN:VEVENT
UID:147@usm.edu.ph
DTSTART;TZID=Asia/Manila;VALUE=DATE:20260121
DTEND;TZID=Asia/Manila;VALUE=DATE:20260125
DTSTAMP:20260120T110224Z
URL:https://www.usm.edu.ph/events/usm-first-flight-inaugural-disc-golf-tou
 rnament-and-seminar-workshop/
SUMMARY:USM First Flight Inaugural Disc Golf Tournament and Seminar Worksho
 p
DESCRIPTION:USM FIRST FLIGHT INAUGURAL DISC GOLF TOURNAMENT AND SEMINAR WOR
 KSHOP!We are inviting players\, educators\, sports enthusiasts\, and partn
 er institutions to be part of the USM First Flight Inaugural Disc Golf Tou
 rnament and Seminar Workshop\, a landmark event promoting innovation\, wel
 lness\, and excellence in sports. January 21–24\, 2026 Kabacan\, Cotab
 ato\, PhilippinesThis event brings together competition\, learning\, and c
 ollaboration as we officially launch Disc Golf initiatives at the Universi
 ty of Southern Mindanao.Register now by scanning the QR code for FREE!Let
 ’s make history together—see you on the course!
ATTACH;FMTTYPE=image/jpeg:https://www.usm.edu.ph/wp-content/uploads/2026/0
 1/USM-First-Flight-Inaugural-Disc-Golf-Tournament-and-Seminar-Workshop.jpg
CATEGORIES:External,Faculty and Staff,Non-Academic,Student
LOCATION:USM Auditorium\, USM Main Campus\, Kabacan\, Philippines
X-APPLE-STRUCTURED-LOCATION;VALUE=URI;X-ADDRESS=USM Main Campus\, Kabacan\,
  Philippines;X-APPLE-RADIUS=100;X-TITLE=USM Auditorium:geo:0,0
END:VEVENT
BEGIN:VTIMEZONE
TZID:Asia/Manila
X-LIC-LOCATION:Asia/Manila
BEGIN:STANDARD
DTSTART:20250121T000000
TZOFFSETFROM:+0800
TZOFFSETTO:+0800
TZNAME:PST
END:STANDARD
END:VTIMEZONE
END:VCALENDAR