BEGIN:VCALENDAR
VERSION:2.0
PRODID:-//wp-events-plugin.com//7.2.3.1//EN
TZID:Asia/Manila
X-WR-TIMEZONE:Asia/Manila
BEGIN:VEVENT
UID:164@usm.edu.ph
DTSTART;TZID=Asia/Manila;VALUE=DATE:20260519
DTEND;TZID=Asia/Manila;VALUE=DATE:20260520
DTSTAMP:20260419T110350Z
URL:https://www.usm.edu.ph/events/the-university-of-southern-mindanao-usm-
 student-in-house-review/
SUMMARY:The University of Southern Mindanao (USM) Student In-House Review
DESCRIPTION:𝗨𝗦𝗠-𝗥𝗗𝗘 𝗔𝗻𝗻𝗼𝘂𝗻𝗰𝗲𝘀 
 𝗦𝘁𝘂𝗱𝗲𝗻𝘁 𝗜𝗻-𝗛𝗼𝘂𝘀𝗲 𝗥𝗲𝘃
 𝗶𝗲𝘄 𝗼𝗻 𝗠𝗮𝘆 𝟭𝟵\, 𝟮𝟬𝟮𝟲\nThe Univer
 sity of Southern Mindanao (USM) Student In-House Review is set on May 19\,
  2026\, as announced by the USM Research\, Development and Extension (USM-
 RDE).All participants are required to submit four printed copies of their 
 full paper to the Research Development Office and an electronic copy of bo
 th the full paper and PowerPoint presentation\, with the deadline set for 
 May 15\, 2026.Furthermore\, participants are advised to download the event
  guidelines for further details and to refer to the full paper template av
 ailable on the USM-RDE Facebook page.#TheMindanaoTech: Carl Gian Calimbo: 
 Christian Ates &amp\; Dee Jay Gumaso
ATTACH;FMTTYPE=image/jpeg:https://www.usm.edu.ph/wp-content/uploads/2026/0
 4/The-University-of-Southern-Mindanao-USM-Student-In-House-Review.jpg
END:VEVENT
BEGIN:VTIMEZONE
TZID:Asia/Manila
X-LIC-LOCATION:Asia/Manila
BEGIN:STANDARD
DTSTART:20250519T000000
TZOFFSETFROM:+0800
TZOFFSETTO:+0800
TZNAME:PST
END:STANDARD
END:VTIMEZONE
END:VCALENDAR